BEGIN:VCALENDAR
VERSION:2.0
PRODID:-//HHM  - ECPv5.16.1.1//NONSGML v1.0//EN
CALSCALE:GREGORIAN
METHOD:PUBLISH
X-WR-CALNAME:HHM 
X-ORIGINAL-URL:https://hhm.com.tr
X-WR-CALDESC:Events for HHM 
REFRESH-INTERVAL;VALUE=DURATION:PT1H
X-Robots-Tag:noindex
X-PUBLISHED-TTL:PT1H
BEGIN:VTIMEZONE
TZID:UTC
BEGIN:STANDARD
TZOFFSETFROM:+0000
TZOFFSETTO:+0000
TZNAME:UTC
DTSTART:20220101T000000
END:STANDARD
END:VTIMEZONE
BEGIN:VEVENT
DTSTART;TZID=UTC:20251022T080000
DTEND;TZID=UTC:20251022T170000
DTSTAMP:20260421T155212
CREATED:20170517T230707Z
LAST-MODIFIED:20170517T230707Z
UID:1756-1761120000-1761152400@hhm.com.tr
SUMMARY:Consulting Business Credit Building
DESCRIPTION:Sed ut perspiciatis unde omnis iste natus error sit voluptatem accusantium doloremque laudantium\, totam rem aperiam\, eaque ipsa quae ab illo. \nSed ut perspiciatis unde omnis iste natus error sit voluptatem accusantium doloremque laudantium\, totam rem aperiam\, eaque ipsa quae ab illo inventore veritatis et quasi architecto beatae vitae dicta sunt explicabo. Nemo enim ipsam voluptatem quia voluptas sit aspernatur aut odit aut fugit\, sed quia consequuntur magni dolores eos qui ratione voluptatem sequi nesciunt.
URL:https://hhm.com.tr/event/consulting-business-credit-building/
LOCATION:New York\, 8 King Street\, Queens\, NY\, United States
CATEGORIES:Seminars
ATTACH;FMTTYPE=image/jpeg:https://hhm.com.tr/wp-content/uploads/2017/05/event-3.jpg
ORGANIZER;CN="Gary%20Jones":MAILTO:info@demo.com
END:VEVENT
BEGIN:VEVENT
DTSTART;TZID=UTC:20251012T080000
DTEND;TZID=UTC:20251012T170000
DTSTAMP:20260421T155212
CREATED:20170517T230524Z
LAST-MODIFIED:20170517T230524Z
UID:1752-1760256000-1760288400@hhm.com.tr
SUMMARY:The new startup is on the way
DESCRIPTION:Sed ut perspiciatis unde omnis iste natus error sit voluptatem accusantium doloremque laudantium\, totam rem aperiam\, eaque ipsa quae ab illo. \nSed ut perspiciatis unde omnis iste natus error sit voluptatem accusantium doloremque laudantium\, totam rem aperiam\, eaque ipsa quae ab illo inventore veritatis et quasi architecto beatae vitae dicta sunt explicabo. Nemo enim ipsam voluptatem quia voluptas sit aspernatur aut odit aut fugit\, sed quia consequuntur magni dolores eos qui ratione voluptatem sequi nesciunt.
URL:https://hhm.com.tr/event/the-new-startup-is-on-the-way/
LOCATION:New York\, 8 King Street\, Queens\, NY\, United States
CATEGORIES:Seminars
ATTACH;FMTTYPE=image/jpeg:https://hhm.com.tr/wp-content/uploads/2017/05/event-2.jpg
ORGANIZER;CN="Gary%20Jones":MAILTO:info@demo.com
END:VEVENT
BEGIN:VEVENT
DTSTART;TZID=UTC:20251005T000000
DTEND;TZID=UTC:20251005T235900
DTSTAMP:20260421T155212
CREATED:20170517T230424Z
LAST-MODIFIED:20170517T230424Z
UID:1746-1759622400-1759708740@hhm.com.tr
SUMMARY:Taking Your Startup to The Next Level
DESCRIPTION:Sed ut perspiciatis unde omnis iste natus error sit voluptatem accusantium doloremque laudantium\, totam rem aperiam\, eaque ipsa quae ab illo. \nSed ut perspiciatis unde omnis iste natus error sit voluptatem accusantium doloremque laudantium\, totam rem aperiam\, eaque ipsa quae ab illo inventore veritatis et quasi architecto beatae vitae dicta sunt explicabo. Nemo enim ipsam voluptatem quia voluptas sit aspernatur aut odit aut fugit\, sed quia consequuntur magni dolores eos qui ratione voluptatem sequi nesciunt.
URL:https://hhm.com.tr/event/taking-your-startup-to-the-next-level/
LOCATION:New York\, 8 King Street\, Queens\, NY\, United States
CATEGORIES:Seminars
ATTACH;FMTTYPE=image/jpeg:https://hhm.com.tr/wp-content/uploads/2017/05/event-1.jpg
ORGANIZER;CN="Gary%20Jones":MAILTO:info@demo.com
END:VEVENT
BEGIN:VEVENT
DTSTART;TZID=UTC:20220706T000000
DTEND;TZID=UTC:20220706T000000
DTSTAMP:20260421T155212
CREATED:20170517T230617Z
LAST-MODIFIED:20220630T190327Z
UID:1754-1657065600-1657065600@hhm.com.tr
SUMMARY:Intermold Nagoya 6 - 9 Temmuz 2022
DESCRIPTION:2018 yılında ilki gerçekleştirilen fuar  metal makine araçları\,  işleme takımları\, metal şekillendirme makineleri\, taşlama makineleri\, her türlü kalıplama makineleri ve ilgili ekipmanlar\, kalıp tabanları\, kalıp ve kalıp malzemeleri\, kalıp ve kalıp çalışma sistemleri\, yüksek hız çelikleri\, çimentolu karbür takımları ve elmas takımları\, taşlama taşları ve aşındırıcılar\, hassas ölçüm\, optik ölçüm\, 3D ölçüm\, CAD / CAM / CAE sistemleri\, hızlı prototipleme\, ultra yüksek hassasiyetli üretim teknolojisi\, tasarım ve modelleme hizmet bürosu\, FA ile ilgili aparatlar konusunda içerikleri sunmaktadır.
URL:https://hhm.com.tr/event/small-business-saturday-workshop/
LOCATION:NÜRNBERG\, ALMANYA\, Germany
CATEGORIES:Seminars
ATTACH;FMTTYPE=image/jpeg:https://hhm.com.tr/wp-content/uploads/2017/05/slide_18.jpg
END:VEVENT
END:VCALENDAR